View In:
ArcGIS JavaScript
ArcGIS Online Map Viewer
ArcGIS Earth
ArcMap
View Footprint In:
ArcGIS Online Map Viewer
Service Description: Imagery/Esters_Extension
Name: Imagery/Esters_Extension
Description:
Single Fused Map Cache: false
Extent:
XMin: 970831.6384500001
YMin: 327066.94453000004
XMax: 973690.7431000001
YMax: 328237.30433
Spatial Reference: 102694
(2254)
Initial Extent:
XMin: 970831.6384500001
YMin: 327066.94453000004
XMax: 973690.7431000001
YMax: 328237.30433
Spatial Reference: 102694
(2254)
Full Extent:
XMin: 970831.6384500001
YMin: 327066.94453000004
XMax: 973690.7431000001
YMax: 328237.30433
Spatial Reference: 102694
(2254)
Pixel Size X: 0.049149999999999895
Pixel Size Y: 0.049149999999999014
Band Count: 4
Pixel Type: U8
RasterFunction Infos: {"rasterFunctionInfos": [{
"name": "None",
"description": "",
"help": ""
}]}
Mensuration Capabilities: Basic
Has Histograms: true
Has Colormap: false
Has Multi Dimensions : false
Rendering Rule:
Min Scale: 0
Max Scale: 0
Copyright Text:
Service Data Type: esriImageServiceDataTypeGeneric
Min Values: 0, 0, 0, 0
Max Values: 255, 255, 255, 255
Mean Values: 46.534604221378, 47.527974782217, 37.743416891, 91.952218076746
Standard Deviation Values: 71.141633239904, 70.309365277864, 62.809503137349, 122.44429431849
Object ID Field:
Fields:
None
Default Mosaic Method: Center
Allowed Mosaic Methods:
SortField:
SortValue: null
Mosaic Operator: First
Default Compression Quality: 75
Default Resampling Method: Bilinear
Max Record Count: null
Max Image Height: 4100
Max Image Width: 15000
Max Download Image Count: null
Max Mosaic Image Count: null
Allow Raster Function: true
Allow Copy: true
Allow Analysis: true
Allow Compute TiePoints: false
Supports Statistics: false
Supports Advanced Queries: false
Use StandardizedQueries: true
Raster Type Infos:
Name: Raster Dataset
Description: Supports all ArcGIS Raster Datasets
Help:
Has Raster Attribute Table: false
Edit Fields Info: null
Ownership Based AccessControl For Rasters: null
Child Resources:
Info
Histograms
Statistics
Key Properties
Legend
Raster Function Infos
Supported Operations:
Export Image
Identify
Measure
Compute Histograms
Compute Statistics Histograms
Get Samples
Compute Class Statistics
Query Boundary
Compute Pixel Location
Compute Angles
Validate
Project