View In:
ArcGIS JavaScript
ArcGIS Online Map Viewer
ArcGIS Earth
ArcMap
View Footprint In:
ArcGIS Online Map Viewer
Service Description: Imagery/Aerials2020
Name: Imagery/Aerials2020
Description:
Single Fused Map Cache: false
Extent:
XMin: 917159.4914299473
YMin: 311938.2106844336
XMax: 995492.9914299473
YMax: 370341.2106844336
Spatial Reference: 102694
(2254)
Initial Extent:
XMin: 917159.4914299473
YMin: 311938.2106844336
XMax: 995492.9914299473
YMax: 370341.2106844336
Spatial Reference: 102694
(2254)
Full Extent:
XMin: 917159.4914299473
YMin: 311938.2106844336
XMax: 995492.9914299473
YMax: 370341.2106844336
Spatial Reference: 102694
(2254)
Pixel Size X: 0.5
Pixel Size Y: 0.5
Band Count: 4
Pixel Type: U16
RasterFunction Infos: {"rasterFunctionInfos": [{
"name": "None",
"description": "",
"help": ""
}]}
Mensuration Capabilities: Basic
Has Histograms: true
Has Colormap: false
Has Multi Dimensions : false
Rendering Rule:
Min Scale: 0
Max Scale: 0
Copyright Text:
Service Data Type: esriImageServiceDataTypeGeneric
Min Values: 0, 0, 0, 0
Max Values: 255, 255, 255, 255
Mean Values: 154.75446656987, 154.99667464859, 142.42619775996, 178.91213677471
Standard Deviation Values: 78.291522509759, 75.365743892011, 80.190440963653, 116.67494243875
Object ID Field:
Fields:
None
Default Mosaic Method: Center
Allowed Mosaic Methods:
SortField:
SortValue: null
Mosaic Operator: First
Default Compression Quality: 75
Default Resampling Method: Bilinear
Max Record Count: null
Max Image Height: 4100
Max Image Width: 15000
Max Download Image Count: null
Max Mosaic Image Count: null
Allow Raster Function: true
Allow Copy: true
Allow Analysis: true
Allow Compute TiePoints: false
Supports Statistics: false
Supports Advanced Queries: false
Use StandardizedQueries: true
Raster Type Infos:
Name: Raster Dataset
Description: Supports all ArcGIS Raster Datasets
Help:
Has Raster Attribute Table: false
Edit Fields Info: null
Ownership Based AccessControl For Rasters: null
Child Resources:
Info
Histograms
Statistics
Key Properties
Legend
Raster Function Infos
Supported Operations:
Export Image
Identify
Measure
Compute Histograms
Compute Statistics Histograms
Get Samples
Compute Class Statistics
Query Boundary
Compute Pixel Location
Compute Angles
Validate
Project